BEGIN:VCALENDAR
VERSION:2.0
PRODID:-//Montana Conservation Voters - ECPv6.13.2.1//NONSGML v1.0//EN
CALSCALE:GREGORIAN
METHOD:PUBLISH
X-WR-CALNAME:Montana Conservation Voters
X-ORIGINAL-URL:https://mtvoters.org
X-WR-CALDESC:Events for Montana Conservation Voters
REFRESH-INTERVAL;VALUE=DURATION:PT1H
X-Robots-Tag:noindex
X-PUBLISHED-TTL:PT1H
BEGIN:VTIMEZONE
TZID:America/Boise
BEGIN:DAYLIGHT
TZOFFSETFROM:-0700
TZOFFSETTO:-0600
TZNAME:MDT
DTSTART:20210314T090000
END:DAYLIGHT
BEGIN:STANDARD
TZOFFSETFROM:-0600
TZOFFSETTO:-0700
TZNAME:MST
DTSTART:20211107T080000
END:STANDARD
BEGIN:DAYLIGHT
TZOFFSETFROM:-0700
TZOFFSETTO:-0600
TZNAME:MDT
DTSTART:20220313T090000
END:DAYLIGHT
BEGIN:STANDARD
TZOFFSETFROM:-0600
TZOFFSETTO:-0700
TZNAME:MST
DTSTART:20221106T080000
END:STANDARD
END:VTIMEZONE
BEGIN:VEVENT
DTSTART;TZID=America/Boise:20220906T170000
DTEND;TZID=America/Boise:20220906T190000
DTSTAMP:20260425T201858
CREATED:20220726T220900Z
LAST-MODIFIED:20220726T222253Z
UID:7050-1662483600-1662490800@mtvoters.org
SUMMARY:MCV Summer Road Tour: Great Falls
DESCRIPTION:Join Team MCV in downtown Great Falls for our pint night at the Celtic Cowboy (116 1st Ave S). We’ll be talking conservation\, public lands and the redistricting process. \nCeltic Cowboy is generously donating $1.00 from each beverage sold to the MCV Education Fund so have a pint and support conservation! \nTO RSVP FOR THE EVENT\, PLEASE VISIT HERE!
URL:https://mtvoters.org/events-calendar-event/mcv-summer-road-tour-great-falls/
LOCATION:MT
END:VEVENT
BEGIN:VEVENT
DTSTART;TZID=America/Boise:20220830T170000
DTEND;TZID=America/Boise:20220830T190000
DTSTAMP:20260425T201858
CREATED:20220822T195659Z
LAST-MODIFIED:20220822T200002Z
UID:7120-1661878800-1661886000@mtvoters.org
SUMMARY:MCV Summer Road Tour: Bozeman
DESCRIPTION:Join Team MCV in Bozeman for our pint night at the Bridger Brewing (1609 S 11th Ave). We’ll be talking conservation and how you can get involved in the legislative redistricting process. \nTO RSVP FOR THE EVENT\, PLEASE VISIT HERE!
URL:https://mtvoters.org/events-calendar-event/mcv-summer-road-tour-bozeman/
LOCATION:MT
END:VEVENT
BEGIN:VEVENT
DTSTART;TZID=America/Boise:20220820T160000
DTEND;TZID=America/Boise:20220820T190000
DTSTAMP:20260425T201858
CREATED:20220726T215916Z
LAST-MODIFIED:20220805T164532Z
UID:7044-1661011200-1661022000@mtvoters.org
SUMMARY:MCV Summer Road Tour: Helena
DESCRIPTION:Please join us in downtown Helena for our pint night at Ten Mile Creek Brewery (48 N Last Chance Gulch\, Helena\, MT 59601). We’ll be talking conservation\, public lands and the redistricting process. \nSee you in the Queen City! \n\nTo RSVP for the event\, please visit HERE!
URL:https://mtvoters.org/events-calendar-event/2022-helena-pint-night/
LOCATION:MT
END:VEVENT
BEGIN:VEVENT
DTSTART;TZID=America/Boise:20220815T170000
DTEND;TZID=America/Boise:20220815T190000
DTSTAMP:20260425T201858
CREATED:20220713T183803Z
LAST-MODIFIED:20220726T222726Z
UID:7015-1660582800-1660590000@mtvoters.org
SUMMARY:MCV Summer Road Tour: Missoula
DESCRIPTION:Please join us in Missoula for our pint night at GILD Brewing. We’ll be talking conservation\, public lands and national monuments. We’re also thrilled to feature a live art activation from Missoula artist\, Stella Nall\, of the beautiful Upper Missouri River Breaks National Monument \n\nGILD is generously donating $1.00 from each beverage sold to the MCV Education Fund so have a pint and support conservation! \n\nTo RVSP to the event\, please head HERE!
URL:https://mtvoters.org/events-calendar-event/mcv-summer-road-tour-missoula/
LOCATION:MT
END:VEVENT
BEGIN:VEVENT
DTSTART;TZID=America/Boise:20220813T170000
DTEND;TZID=America/Boise:20220813T190000
DTSTAMP:20260425T201858
CREATED:20220713T195406Z
LAST-MODIFIED:20220726T222648Z
UID:7024-1660410000-1660417200@mtvoters.org
SUMMARY:MCV Summer Road Tour: Butte
DESCRIPTION:Please join us in Butte for our pint night at Butte Brewing (465 E Galena St\, Butte\, MT 59701). \nWe’ll be talking conservation\, public lands and the redistricting process. Plus\, Butte Brewing is generously donating $1.00 from each beverage sold to the MCV Education Fund so have a pint and support conservation! \nto RSVP for the event\, please visit HERE!
URL:https://mtvoters.org/events-calendar-event/mcv-summer-road-tour-butte/
LOCATION:MT
END:VEVENT
BEGIN:VEVENT
DTSTART;TZID=America/Boise:20220304T180000
DTEND;TZID=America/Boise:20220304T200000
DTSTAMP:20260425T201858
CREATED:20220203T000423Z
LAST-MODIFIED:20220304T175108Z
UID:6753-1646416800-1646424000@mtvoters.org
SUMMARY:2022 Annual Member Celebration
DESCRIPTION:Join us for our Annual Member Celebration on Friday\, March 4 in Helena at the newly renovated Holter Museum of Art. This is a special event where you get the chance to mingle with MCV staff\, fellow MCV members\, elected officials and movers and shakers from Montana’s conservation community all while enjoying good food and local drinks. \nThis year’s election is critical in protecting the future of conservation in Montana. We hope you can join us and support our efforts to protect legislative seats for conservation champions! \nClick HERE to register and get more information.\nWe’ll see you on March 4! \n\nThank you to our generous sponsors!\nTo join this incredible list\, please reach out to our Development Director Angela Swatek at angela@mtvoters.org  \n— PLATINUM — \nTreasure State PAC\n \n \n— GOLD — \nRobin Tawney Nichols & William Nichols\nMCV/MCVEF Boards \nTenacious Campaigns\n\n \n \n— SILVER — \nJock Conyngham\nKali & Rob Linder\nC.B. Pearson\n \n \n \n \n \n— BRONZE — \nA. Lee Boman\nTeresa Brown\nSally Ericcson\nJim & Sue Hamilton\nRep. Denise Hayman\nBert Linder & Kristi Dubois\nSen. Sally McNally\nAndrea Olsen for Senate\nAndrew & Kelly Posewitz\nChris Saeger & Tyler Hope\nTresa Smith\nJeanne-Marie Souvigney\nJohn & Debbie Svaldi \nRep. Mark & Mary Thane \nMonica Tranel\nJuanita Vero\nMary & Hal Williamson\n  \n \n \n\n \n \n \n\n— RAFFLE SPONSORS —\nAunt Bonnie’s Books & Gifts\nTeresa Brown\nParks Reece
URL:https://mtvoters.org/events-calendar-event/2022-annual-member-celebration/
LOCATION:Holter Museum of Art\, 12 E. Lawerence\, Helena\, MT\, 59601
END:VEVENT
BEGIN:VEVENT
DTSTART;TZID=America/Boise:20210908T170000
DTEND;TZID=America/Boise:20210908T190000
DTSTAMP:20260425T201858
CREATED:20210725T171430Z
LAST-MODIFIED:20210725T171430Z
UID:6334-1631120400-1631127600@mtvoters.org
SUMMARY:MCV Road Tour: Whitefish
DESCRIPTION:Please join us in Whitefish for a drink at Bonsai (549 Wisconsin Ave) \nFor more information\, and to RSVP for the event\, please email Christy at Christy@mtvoters.org or check out our Facebook event HERE!
URL:https://mtvoters.org/events-calendar-event/mcv-road-tour-whitefish/
LOCATION:MT
ORGANIZER;CN="Christy":MAILTO:chisty@mtvoters.org
END:VEVENT
BEGIN:VEVENT
DTSTART;TZID=America/Boise:20210826T173000
DTEND;TZID=America/Boise:20210826T173000
DTSTAMP:20260425T201858
CREATED:20210718T173324Z
LAST-MODIFIED:20210725T155328Z
UID:6295-1629999000-1629999000@mtvoters.org
SUMMARY:Dinner under the Big Sky
DESCRIPTION:Join us for a night of fine dining and support our efforts turning Montana values into priorities. Contact Christy at christy@mtvoters.org to learn more.
URL:https://mtvoters.org/events-calendar-event/dinner-under-the-big-sky/
LOCATION:Oro Ranch\, Condon\, MT
ORGANIZER;CN="Christy":MAILTO:chisty@mtvoters.org
END:VEVENT
BEGIN:VEVENT
DTSTART;TZID=America/Boise:20210812T170000
DTEND;TZID=America/Boise:20210812T190000
DTSTAMP:20260425T201858
CREATED:20210725T171332Z
LAST-MODIFIED:20210725T171332Z
UID:6332-1628787600-1628794800@mtvoters.org
SUMMARY:MCV Road Tour: Great Falls
DESCRIPTION:Please join us in Great Falls for a drink at the Celtic Cowboy (116 1st Ave S) \nThe Celtic Cowboy is generously donating $1.00 for each beer purchased to our sister organization the MCV Education Fund. \nFor more information\, and to RSVP for the event\, please email Christy at Christy@mtvoters.org or check out our Facebook event HERE!
URL:https://mtvoters.org/events-calendar-event/mcv-road-tour-great-falls/
LOCATION:MT
ORGANIZER;CN="Christy":MAILTO:chisty@mtvoters.org
END:VEVENT
BEGIN:VEVENT
DTSTART;TZID=America/Boise:20210805T170000
DTEND;TZID=America/Boise:20210805T190000
DTSTAMP:20260425T201858
CREATED:20210725T171239Z
LAST-MODIFIED:20210725T171239Z
UID:6330-1628182800-1628190000@mtvoters.org
SUMMARY:MCV Road Tour: Livingston
DESCRIPTION:Please join us in Livingston for a drink at Katabatic Brewing Company (117 West Park St.)  \nFor more information\, and to RSVP for the event\, please email Christy at christy@mtvoters.org or check out our Facebook Event HERE!
URL:https://mtvoters.org/events-calendar-event/mcv-road-tour-livingston/
LOCATION:MT
ORGANIZER;CN="Christy":MAILTO:chisty@mtvoters.org
END:VEVENT
BEGIN:VEVENT
DTSTART;TZID=America/Boise:20210727T170000
DTEND;TZID=America/Boise:20210727T190000
DTSTAMP:20260425T201858
CREATED:20210725T170139Z
LAST-MODIFIED:20210725T170139Z
UID:6328-1627405200-1627412400@mtvoters.org
SUMMARY:MCV Road Tour: Helena
DESCRIPTION:Please join us in Helena for a drink at Ten Mile Creek Brewing (48 N Last Chance Gulch) \nFor more information and to RSVP for the event\, please email Christy at christy@mtvoters.org or check out our Facebook event HERE!
URL:https://mtvoters.org/events-calendar-event/mcv-road-tour-helena/
LOCATION:MT
ORGANIZER;CN="Christy":MAILTO:chisty@mtvoters.org
END:VEVENT
BEGIN:VEVENT
DTSTART;TZID=America/Boise:20210708T170000
DTEND;TZID=America/Boise:20210708T190000
DTSTAMP:20260425T201858
CREATED:20210725T163701Z
LAST-MODIFIED:20210725T165505Z
UID:6323-1625763600-1625770800@mtvoters.org
SUMMARY:MCV Road Tour: Missoula
DESCRIPTION:Please join us in Missoula for a drink at Imagine Nation Brewing Company (1151 W Broadway St.) \nFor more information\, and to RSVP for the event\, please email Christy at christy@mtvoters.org or check out our Facebook event HERE!
URL:https://mtvoters.org/events-calendar-event/mcv-road-tour-missoula/
LOCATION:MT
ORGANIZER;CN="Christy":MAILTO:chisty@mtvoters.org
END:VEVENT
BEGIN:VEVENT
DTSTART;TZID=America/Boise:20210617T170000
DTEND;TZID=America/Boise:20210617T190000
DTSTAMP:20260425T201858
CREATED:20210725T163547Z
LAST-MODIFIED:20210725T163547Z
UID:6321-1623949200-1623956400@mtvoters.org
SUMMARY:MCV Road Tour: Butte
DESCRIPTION:Please join us in Butte for a drink at Headframe Spirits (21 S Montana St.) \nHeadframe Spirits is generously donating $1.00 for each drink poured the entire day\, as well as any additional donations made by attendees\, to our sister organization the MCV Education Fund. We’re honored to be featured as Headframe Spirits’ first “Drink It Like You Mean It” day non-profit organization of 2021! For more information\, and to RSVP for the event\, please email Christy at christy@mtvoters.org or check out our Facebook event HERE!
URL:https://mtvoters.org/events-calendar-event/mcv-road-tour-butte/
LOCATION:MT
ORGANIZER;CN="Christy":MAILTO:chisty@mtvoters.org
END:VEVENT
BEGIN:VEVENT
DTSTART;TZID=America/Boise:20210527T170000
DTEND;TZID=America/Boise:20210527T190000
DTSTAMP:20260425T201858
CREATED:20210725T161942Z
LAST-MODIFIED:20210725T164043Z
UID:6319-1622134800-1622142000@mtvoters.org
SUMMARY:MCV Summer Road Tour: Billings
DESCRIPTION:Please join us in Billings for our pint night with Thirsty Street at the Taproom (3008 1st Ave N) \nThirsty Street is generously donating $1.00 from each beverage sold to our sister organization the MCV Education Fund. For more information\, and to RSVP for the event\, please email Christy at christy@mtvoters.org or check out our Facebook event HERE!
URL:https://mtvoters.org/events-calendar-event/mcv-summer-road-tour-billings/
LOCATION:MT
ORGANIZER;CN="Christy":MAILTO:chisty@mtvoters.org
END:VEVENT
END:VCALENDAR